Felt | Verdi |
AlreadyApplied | True |
Aperture | 4.0 |
ApertureValue | 4.0 |
ApproximateFocusDistance | 1.41 |
Artist | Orjan K.Sandnes |
AutoLateralCA | 1 |
BitsPerSample | 8 |
Blacks2012 | 0 |
BlueHue | 0 |
BlueSaturation | 0 |
Brightness | +50 |
By-line | Orjan K.Sandnes |
CameraProfile | Adobe Standard |
CircleOfConfusion | 0.020 mm |
Clarity | +52 |
Clarity2012 | 0 |
ColorComponents | 3 |
ColorMode | RGB |
ColorNoiseReduction | 25 |
ColorNoiseReductionDetail | 50 |
ColorSpace | Uncalibrated |
ColorTemperature | 5350 |
Contrast (1) | +50 |
Contrast | High |
Contrast2012 | 0 |
ConvertToGrayscale | False |
Copyright | Orjan_K.Sandnes |
CopyrightNotice | Orjan_K.Sandnes |
CreateDate | 2012:06:29 11:46:14 |
Creator | Orjan K.Sandnes |
CreatorTool | K-5 Ver 1.11 |
CropAngle | 0 |
CropBottom | 0.966173 |
CropConstrainToWarp | 0 |
CropLeft | 0.028858 |
CropRight | 0.982346 |
CropTop | 0.012685 |
CustomRendered | Normal |
DateCreated (1) | 2012:06:29 |
DateCreated | 2012:06:29 11:46:14 |
DateTimeOriginal | 2012:06:29 11:46:14 |
Defringe | 0 |
DOF | 0.17 m (1.33 - 1.50 m) |
ExifImageHeight | 800 |
ExifImageWidth | 530 |
Exposure | 0.00 |
Exposure2012 | 0.00 |
ExposureCompensation | 0 |
ExposureMode | Auto |
ExposureProgram | Aperture-priority AE |
ExposureTime | 1/100 |
FillLight | 0 |
Flash | Off, Did not fire |
FNumber | 4.0 |
FocalLength | 43.0 mm |
FocalLength35efl | 43.0 mm (35 mm equivalent: 64.0 mm) |
FocalLengthIn35mmFormat | 64 mm |
Format | image/jpeg |
FOV | 31.4 deg |
GrainAmount | 0 |
GreenHue | 0 |
GreenSaturation | 0 |
HasCrop | True |
HasSettings | True |
HighlightRecovery | 0 |
Highlights2012 | 0 |
HueAdjustmentAqua | 0 |
HueAdjustmentBlue | 0 |
HueAdjustmentGreen | 0 |
HueAdjustmentMagenta | 0 |
HueAdjustmentOrange | 0 |
HueAdjustmentPurple | 0 |
HueAdjustmentRed | 0 |
HueAdjustmentYellow | 0 |
HyperfocalDistance | 22.90 m |
ICCProfileName | ProPhoto RGB |
ImageHeight | 800 |
ImageSize | 530x800 |
ImageWidth | 530 |
ISO | 200 |
Label | |
Lens | smc PENTAX-FA 43mm F1.9 Limited |
LensID (1) | 4 3 |
LensID | smc PENTAX-FA 43mm F1.9 Limited |
LensInfo | 43mm f/1.9 |
LensManualDistortionAmount | 0 |
LensModel | smc PENTAX-FA 43mm F1.9 Limited |
LensProfileChromaticAberrationScale | 100 |
LensProfileDistortionScale | 100 |
LensProfileEnable | 1 |
LensProfileFilename | PENTAX (smc PENTAX-FA 43mm F1.9 Limited).lcp |
LensProfileName | Adobe (smc PENTAX-FA 43mm F1.9 Limited) |
LensProfileSetup | LensDefaults |
LensProfileVignettingScale | 100 |
LightValue | 9.6 |
LuminanceAdjustmentAqua | 0 |
LuminanceAdjustmentBlue | 0 |
LuminanceAdjustmentGreen | 0 |
LuminanceAdjustmentMagenta | 0 |
LuminanceAdjustmentOrange | 0 |
LuminanceAdjustmentPurple | 0 |
LuminanceAdjustmentRed | 0 |
LuminanceAdjustmentYellow | 0 |
LuminanceSmoothing | 0 |
Make | PENTAX |
Megapixels | 0.424 |
MeteringMode | Multi-segment |
Model | PENTAX K-5 |
ModifyDate (1) | 2012:11:24 21:43:18+01:00 |
ModifyDate | 2012:11:24 21:43:18 |
Orientation | Horizontal (normal) |
ParametricDarks | 0 |
ParametricHighlights | 0 |
ParametricHighlightSplit | 75 |
ParametricLights | 0 |
ParametricMidtoneSplit | 50 |
ParametricShadows | 0 |
ParametricShadowSplit | 25 |
PerspectiveHorizontal | 0 |
PerspectiveRotate | 0.0 |
PerspectiveScale | 100 |
PerspectiveVertical | 0 |
PostCropVignetteAmount | -40 |
PostCropVignetteFeather | 50 |
PostCropVignetteHighlightContrast | 0 |
PostCropVignetteMidpoint | 50 |
PostCropVignetteRoundness | 0 |
PostCropVignetteStyle | 1 |
ProcessVersion | 5.7 |
ProfileDescription | ProPhoto RGB |
Rating | 0 |
RawFileName | IMGP1843.DNG |
RedHue | 0 |
RedSaturation | 0 |
Rights | Orjan_K.Sandnes |
Saturation (1) | +10 |
Saturation | Normal |
SaturationAdjustmentAqua | 0 |
SaturationAdjustmentBlue | 0 |
SaturationAdjustmentGreen | 0 |
SaturationAdjustmentMagenta | 0 |
SaturationAdjustmentOrange | 0 |
SaturationAdjustmentPurple | 0 |
SaturationAdjustmentRed | 0 |
SaturationAdjustmentYellow | 0 |
ScaleFactor35efl | 1.5 |
SceneCaptureType | Standard |
SensingMethod | One-chip color area |
Shadows | 14 |
Shadows2012 | 0 |
ShadowTint | 0 |
SharpenDetail | 25 |
SharpenEdgeMasking | 0 |
SharpenRadius | +1.0 |
Sharpness (1) | 25 |
Sharpness | Hard |
ShutterSpeed | 1/100 |
ShutterSpeedValue | 1/100 |
Software | Adobe Photoshop CS5.1 Windows |
SplitToningBalance | 0 |
SplitToningHighlightHue | 0 |
SplitToningHighlightSaturation | 0 |
SplitToningShadowHue | 0 |
SplitToningShadowSaturation | 0 |
SubjectDistanceRange | Close |
Tint | +32 |
ToneCurve | 0, 0, 32, 22, 64, 56, 128, 128, 192, 196, 255, 255 |
ToneCurveBlue | 0, 0, 255, 255 |
ToneCurveGreen | 0, 0, 255, 255 |
ToneCurveName | Medium Contrast |
ToneCurveName2012 | Linear |
ToneCurvePV2012 | 0, 0, 255, 255 |
ToneCurvePV2012Blue | 0, 0, 255, 255 |
ToneCurvePV2012Green | 0, 0, 255, 255 |
ToneCurvePV2012Red | 0, 0, 255, 255 |
ToneCurveRed | 0, 0, 255, 255 |
URL_List | |
Version | 6.7 |
Vibrance | +10 |
VignetteAmount | 0 |
WhiteBalance (1) | As Shot |
WhiteBalance | Auto |
Whites2012 | 0 |