Felt | Verdi |
AlreadyApplied | True |
Aperture | 4.0 |
ApertureValue | 4.0 |
ApproximateFocusDistance | 7.94 |
Artist | Ruben Johnsen |
BitsPerSample | 8 |
BlueHue | 0 |
BlueSaturation | 0 |
Brightness | +50 |
By-line | Ruben Johnsen |
CameraProfile | Camera Portrait |
CFAPattern | [Red,Green][Green,Blue] |
ChromaticAberrationB | 0 |
ChromaticAberrationR | 0 |
CircleOfConfusion | 0.030 mm |
Clarity | 0 |
ColorComponents | 3 |
ColorNoiseReduction | 25 |
ColorNoiseReductionDetail | 50 |
ColorTemperature | 5300 |
Contrast (1) | +25 |
Contrast | Normal |
ConvertToGrayscale | False |
Copyright | Ruben Johnsen |
CopyrightNotice | Ruben Johnsen |
CreateDate (1) | 2012:05:01 13:26:24.28 |
CreateDate | 2012:05:01 13:26:24 |
Creator | Ruben Johnsen |
CreatorAddress | Planetveien 357 |
CreatorTool | Adobe Photoshop Lightroom 3.5 (Macintosh) |
CreatorWorkEmail | rubenfoto@hotmail.no |
CreatorWorkTelephone | 47859511 |
CropAngle | 0 |
CropBottom | 1 |
CropConstrainToWarp | 0 |
CropHeight | 695 |
CropLeft | 0 |
CropRight | 0.787688 |
CropTop | 0.196735 |
CropUnit | pixels |
CropWidth | 1024 |
CustomRendered | Normal |
DateCreated (1) | 2012:05:01 |
DateCreated | 2012:05:01 13:26:24.28 |
DateTimeOriginal | 2012:05:01 13:26:24 |
Defringe | 0 |
DigitalZoomRatio | 1 |
DOF | 0.16 m (7.86 - 8.02 m) |
Exposure | 0.00 |
ExposureCompensation | +2/3 |
ExposureMode | Auto |
ExposureProgram | Aperture-priority AE |
ExposureTime | 1/8000 |
FillLight | 0 |
Flash | No Flash |
FNumber | 4.0 |
FocalLength | 300.0 mm |
FocalLength35efl | 300.0 mm (35 mm equivalent: 300.0 mm) |
FocalLengthIn35mmFormat | 300 mm |
FOV | 6.9 deg |
GainControl | High gain up |
GrainAmount | 0 |
GreenHue | 0 |
GreenSaturation | 0 |
HasCrop | True |
HasSettings | True |
HighlightRecovery | 97 |
HueAdjustmentAqua | 0 |
HueAdjustmentBlue | -28 |
HueAdjustmentGreen | 0 |
HueAdjustmentMagenta | 0 |
HueAdjustmentOrange | 0 |
HueAdjustmentPurple | 0 |
HueAdjustmentRed | 0 |
HueAdjustmentYellow | 0 |
HyperfocalDistance | 748.85 m |
ImageHeight | 695 |
ImageNumber | 35873 |
ImageSize | 1024x695 |
ImageWidth | 1024 |
ISO | 1000 |
Lens | 300.0 mm f/2.8 |
LensID (1) | 109 |
LensID | AF-S Nikkor 300mm f/2.8D IF-ED II |
LensInfo | 300mm f/2.8 |
LensManualDistortionAmount | 0 |
LensModel | 300.0 mm f/2.8 |
LensProfileEnable | 0 |
LensProfileSetup | LensDefaults |
LightSource | Unknown |
LightValue | 13.6 |
LuminanceAdjustmentAqua | 0 |
LuminanceAdjustmentBlue | 0 |
LuminanceAdjustmentGreen | 0 |
LuminanceAdjustmentMagenta | 0 |
LuminanceAdjustmentOrange | 0 |
LuminanceAdjustmentPurple | 0 |
LuminanceAdjustmentRed | 0 |
LuminanceAdjustmentYellow | 0 |
LuminanceSmoothing | 0 |
Make | NIKON CORPORATION |
MaxApertureValue | 2.8 |
Megapixels | 0.712 |
MeteringMode | Center-weighted average |
Model | NIKON D3 |
ModifyDate (1) | 2012:05:01 15:00:10+02:00 |
ModifyDate | 2012:05:01 15:00:10 |
PaintCorrectionActive | true |
PaintCorrectionAmount | 1.000000 |
PaintCorrectionBrightness | -0.005267 |
PaintCorrectionClarity | 0.011489 |
PaintCorrectionContrast | 0.029596 |
PaintCorrectionExposure (1) | 0.077849 |
PaintCorrectionExposure (2) | 0.000000 |
PaintCorrectionExposure (3) | -0.112868 |
PaintCorrectionExposure (4) | 0.033272 |
PaintCorrectionExposure | -0.083180 |
PaintCorrectionHue | 0.000000 |
PaintCorrectionMaskCenterWeight | 0.228371 |
PaintCorrectionMaskFlow | 0.590036 |
PaintCorrectionMaskRadius (11) | 0.186751 |
PaintCorrectionMaskRadius (12) | 0.126448 |
PaintCorrectionMaskRadius (17) | 0.018542 |
PaintCorrectionMaskRadius (19) | 0.010177 |
PaintCorrectionMaskRadius (2) | 0.268021 |
PaintCorrectionMaskRadius (20) | 0.062645 |
PaintCorrectionMaskRadius (21) | 0.045566 |
PaintCorrectionMaskRadius (4) | 0.169535 |
PaintCorrectionMaskRadius (5) | 0.163925 |
PaintCorrectionMaskRadius (7) | 0.092112 |
PaintCorrectionMaskRadius (8) | 0.198549 |
PaintCorrectionMaskRadius | 0.042858 |
PaintCorrectionMaskValue | 1.000000 |
PaintCorrectionMaskWhat | Mask/Paint |
PaintCorrectionSaturation (1) | -0.505055 |
PaintCorrectionSaturation (9) | 0.143474 |
PaintCorrectionSaturation | 0.000000 |
PaintCorrectionSharpness (1) | 0.836029 |
PaintCorrectionSharpness (2) | -0.427298 |
PaintCorrectionSharpness (3) | 0.094210 |
PaintCorrectionSharpness (4) | 0.255055 |
PaintCorrectionSharpness | 0.645680 |
PaintCorrectionWhat | Correction |
ParametricDarks | 0 |
ParametricHighlights | 0 |
ParametricHighlightSplit | 75 |
ParametricLights | 0 |
ParametricMidtoneSplit | 50 |
ParametricShadows | 0 |
ParametricShadowSplit | 25 |
PerspectiveHorizontal | 0 |
PerspectiveRotate | 0.0 |
PerspectiveScale | 100 |
PerspectiveVertical | 0 |
PostCropVignetteAmount | 0 |
ProcessVersion | 5.7 |
ProfileDescription | sRGB IEC61966-2.1 |
RedHue | 0 |
RedSaturation | 0 |
Rights | Ruben Johnsen |
Saturation (1) | +9 |
Saturation | Normal |
SaturationAdjustmentAqua | 0 |
SaturationAdjustmentBlue | 0 |
SaturationAdjustmentGreen | 0 |
SaturationAdjustmentMagenta | 0 |
SaturationAdjustmentOrange | 0 |
SaturationAdjustmentPurple | 0 |
SaturationAdjustmentRed | 0 |
SaturationAdjustmentYellow | 0 |
ScaleFactor35efl | 1.0 |
SceneCaptureType | Standard |
SceneType | Directly photographed |
SensingMethod | One-chip color area |
SerialNumber | 2059492 |
Shadows | 21 |
ShadowTint | 0 |
SharpenDetail | 25 |
SharpenEdgeMasking | 0 |
SharpenRadius | +1.2 |
Sharpness (1) | 60 |
Sharpness | Normal |
ShutterSpeed | 1/8000 |
ShutterSpeedValue | 1/8000 |
Software | Adobe Photoshop Lightroom 3.5 (Macintosh) |
SplitToningBalance | 0 |
SplitToningHighlightHue | 0 |
SplitToningHighlightSaturation | 0 |
SplitToningShadowHue | 0 |
SplitToningShadowSaturation | 0 |
SubjectDistance | 7.94 m |
SubjectDistanceRange | Unknown |
Tint | -9 |
ToneCurve | 0, 0, 32, 22, 64, 56, 128, 128, 192, 196, 255, 255 |
ToneCurveName | Medium Contrast |
Version | 6.5 |
Vibrance | +19 |
VignetteAmount | 0 |
WhiteBalance (1) | As Shot |
WhiteBalance | Auto |