Felt | Verdi |
AlreadyApplied | True |
Aperture | 2.8 |
ApertureValue | 2.8 |
ApproximateFocusDistance | 2 |
Artist | ESPEN S. SEIERSTAD |
BitsPerSample | 8 |
BlueHue | 0 |
BlueSaturation | 0 |
Brightness | +50 |
By-line | ESPEN S. SEIERSTAD |
CameraProfile | Adobe Standard |
CFAPattern | [Red,Green][Green,Blue] |
ChromaticAberrationB | 0 |
ChromaticAberrationR | 0 |
CircleOfConfusion | 0.030 mm |
Clarity | +50 |
ColorComponents | 3 |
ColorNoiseReduction | 43 |
ColorNoiseReductionDetail | 48 |
ColorTemperature | 5900 |
Contrast (1) | +25 |
Contrast | Normal |
ConvertToGrayscale | False |
Copyright | Foto: Espen Seierstad |
CopyrightFlag | True |
CopyrightNotice | Foto: Espen Seierstad |
CreateDate (1) | 2011:09:11 01:48:53.82 |
CreateDate | 2011:09:11 01:48:53 |
Creator | ESPEN S. SEIERSTAD |
CreatorTool | Adobe Photoshop Lightroom 3.4.1 |
CropAngle | -3.89698 |
CropBottom | 0.907134 |
CropConstrainToWarp | 0 |
CropHeight | 399 |
CropLeft | 0.025873 |
CropRight | 0.974127 |
CropTop | 0.092866 |
CropUnit | pixels |
CropWidth | 600 |
CustomRendered | Normal |
DateCreated (1) | 2011:09:11 |
DateCreated | 2011:09:11 01:48:53.82 |
DateTimeOriginal | 2011:09:11 01:48:53 |
Defringe | 0 |
DigitalZoomRatio | 1 |
DOF | 1.56 m (1.49 - 3.05 m) |
Exposure | 0.00 |
ExposureCompensation | +1 |
ExposureMode | Auto |
ExposureProgram | Program AE |
ExposureTime | 1 |
FillLight | 0 |
Flash | No Flash |
FNumber | 2.8 |
FocalLength | 22.0 mm |
FocalLength35efl | 22.0 mm (35 mm equivalent: 22.0 mm) |
FocalLengthIn35mmFormat | 22 mm |
FOV | 78.6 deg |
GainControl | High gain up |
GrainAmount | 0 |
GreenHue | 0 |
GreenSaturation | 0 |
HasCrop | True |
HasSettings | True |
HighlightRecovery | 0 |
HueAdjustmentAqua | 0 |
HueAdjustmentBlue | 0 |
HueAdjustmentGreen | 0 |
HueAdjustmentMagenta | 0 |
HueAdjustmentOrange | 0 |
HueAdjustmentPurple | 0 |
HueAdjustmentRed | 0 |
HueAdjustmentYellow | 0 |
HyperfocalDistance | 5.75 m |
ImageHeight | 600 |
ImageNumber | 13064 |
ImageSize | 399x600 |
ImageWidth | 399 |
ISO | 6400 |
Label | Red |
Lens | 14.0-24.0 mm f/2.8 |
LensID (1) | 146 |
LensID | AF-S Zoom-Nikkor 14-24mm f/2.8G ED |
LensInfo | 14-24mm f/2.8 |
LensManualDistortionAmount | 0 |
LensModel | 14.0-24.0 mm f/2.8 |
LensProfileEnable | 0 |
LensProfileSetup | LensDefaults |
LightSource | Unknown |
LightValue | -3.0 |
LuminanceAdjustmentAqua | 0 |
LuminanceAdjustmentBlue | -35 |
LuminanceAdjustmentGreen | +26 |
LuminanceAdjustmentMagenta | 0 |
LuminanceAdjustmentOrange | -5 |
LuminanceAdjustmentPurple | -28 |
LuminanceAdjustmentRed | -1 |
LuminanceAdjustmentYellow | 0 |
LuminanceNoiseReductionContrast | 12 |
LuminanceNoiseReductionDetail | 17 |
LuminanceSmoothing | 74 |
Make | NIKON CORPORATION |
Marked | True |
MaxApertureValue | 2.8 |
Megapixels | 0.239 |
MeteringMode | Multi-segment |
Model | NIKON D3S |
ModifyDate (1) | 2011:10:04 22:09:30+02:00 |
ModifyDate | 2011:10:04 22:09:30 |
PaintCorrectionActive | true |
PaintCorrectionAmount | 1.000000 |
PaintCorrectionBrightness | 0.000000 |
PaintCorrectionClarity | 0.303000 |
PaintCorrectionContrast | 0.281000 |
PaintCorrectionExposure | 0.034000 |
PaintCorrectionHue | 208.000000 |
PaintCorrectionMaskCenterWeight | 0.075854 |
PaintCorrectionMaskFlow | 1.000000 |
PaintCorrectionMaskRadius | 0.014885 |
PaintCorrectionMaskValue | 0.966000 |
PaintCorrectionMaskWhat | Mask/Paint |
PaintCorrectionSaturation | 0.000000 |
PaintCorrectionSharpness | 0.770000 |
PaintCorrectionWhat | Correction |
ParametricDarks | 0 |
ParametricHighlights | 0 |
ParametricHighlightSplit | 75 |
ParametricLights | 0 |
ParametricMidtoneSplit | 50 |
ParametricShadows | 0 |
ParametricShadowSplit | 25 |
PerspectiveHorizontal | 0 |
PerspectiveRotate | 0.0 |
PerspectiveScale | 100 |
PerspectiveVertical | 0 |
PostCropVignetteAmount | 0 |
ProcessVersion | 5.7 |
ProfileDescription | sRGB IEC61966-2.1 |
Rating | 5 |
RedHue | 0 |
RedSaturation | 0 |
Rights | Foto: Espen Seierstad |
Saturation (1) | 0 |
Saturation | Normal |
SaturationAdjustmentAqua | 0 |
SaturationAdjustmentBlue | 0 |
SaturationAdjustmentGreen | 0 |
SaturationAdjustmentMagenta | 0 |
SaturationAdjustmentOrange | 0 |
SaturationAdjustmentPurple | 0 |
SaturationAdjustmentRed | 0 |
SaturationAdjustmentYellow | 0 |
ScaleFactor35efl | 1.0 |
SceneCaptureType | Standard |
SceneType | Directly photographed |
SensingMethod | One-chip color area |
SerialNumber | 2035231 |
Shadows | 5 |
ShadowTint | 0 |
SharpenDetail | 22 |
SharpenEdgeMasking | 31 |
SharpenRadius | +2.8 |
Sharpness (1) | 78 |
Sharpness | Normal |
ShutterSpeed | 1 |
ShutterSpeedValue | 1 |
Software | Adobe Photoshop Lightroom 3.4.1 |
SplitToningBalance | 0 |
SplitToningHighlightHue | 0 |
SplitToningHighlightSaturation | 0 |
SplitToningShadowHue | 0 |
SplitToningShadowSaturation | 0 |
SubjectDistance | 2 m |
SubjectDistanceRange | Unknown |
Tint | +83 |
ToneCurve | 0, 0, 32, 22, 64, 56, 128, 128, 192, 196, 255, 255 |
ToneCurveName | Medium Contrast |
Version | 6.4.1 |
Vibrance | +25 |
VignetteAmount | 0 |
WhiteBalance (1) | As Shot |
WhiteBalance | Auto |