Felt | Verdi |
AlreadyApplied | True |
Aperture | 4.0 |
ApertureValue | 4.0 |
Artist | Knut Sandaker |
BitsPerSample | 8 |
BlueHue | 0 |
BlueSaturation | 0 |
Brightness | +50 |
By-line | Knut Sandaker |
CameraProfile | Adobe Standard |
CFAPattern | [Red,Green][Green,Blue] |
ChromaticAberrationB | 0 |
ChromaticAberrationR | 0 |
CircleOfConfusion | 0.030 mm |
Clarity | +22 |
ColorComponents | 3 |
ColorMode | RGB |
ColorNoiseReduction | 65 |
ColorSpace | Uncalibrated |
ColorTemperature | 3650 |
Contrast (2) | +25 |
Contrast | Normal |
ConvertToGrayscale | False |
Copyright | Knut Sandaker |
CopyrightNotice | Knut Sandaker |
CreateDate (1) | 2010:09:23 21:26:05.67+02:00 |
CreateDate | 2010:09:23 21:26:05 |
Creator | Knut Sandaker, Knut Sandaker |
CreatorTool | Ver.1.02 |
CustomRendered | Normal |
DateTimeDigitized | 2010:09:23 21:26:05.67+02:00 |
DateTimeOriginal (1) | 2010:09:23 21:26:05.67+02:00 |
DateTimeOriginal | 2010:09:23 21:26:05 |
Defringe | 0 |
DigitalZoomRatio | 1 |
ExifImageHeight | 984 |
ExifImageWidth | 1500 |
Exposure | 0.00 |
ExposureCompensation | +1/2 |
ExposureMode | Auto |
ExposureProgram | Aperture-priority AE |
ExposureTime | 20 |
FillLight | 8 |
Flash | No Flash |
FlashFired | False |
FlashFunction | False |
FlashMode | Unknown |
FlashRedEyeMode | False |
FlashReturn | No return detection |
FNumber | 4.0 |
FocalLength | 28.0 mm |
FocalLength35efl | 28.0 mm (35 mm equivalent: 28.0 mm) |
FocalLengthIn35mmFormat | 28 mm |
Format | image/jpeg |
FOV | 65.5 deg |
GainControl | Low gain up |
GreenHue | 0 |
GreenSaturation | 0 |
HasCrop | False |
HasSettings | True |
HighlightRecovery | 57 |
HueAdjustmentAqua | 0 |
HueAdjustmentBlue | 0 |
HueAdjustmentGreen | 0 |
HueAdjustmentMagenta | 0 |
HueAdjustmentOrange | 0 |
HueAdjustmentPurple | 0 |
HueAdjustmentRed | 0 |
HueAdjustmentYellow | 0 |
HyperfocalDistance | 6.52 m |
ICCProfileName | Adobe RGB (1998) |
ImageHeight | 984 |
ImageNumber | 24197 |
ImageSize | 1500x984 |
ImageWidth | 1500 |
ISO | 400 |
Lens | 0.0 mm f/0.0 |
LensInfo | 0mm f/0 |
LightSource | Unknown |
LightValue | -2.3 |
LuminanceAdjustmentAqua | 0 |
LuminanceAdjustmentBlue | 0 |
LuminanceAdjustmentGreen | 0 |
LuminanceAdjustmentMagenta | 0 |
LuminanceAdjustmentOrange | 0 |
LuminanceAdjustmentPurple | 0 |
LuminanceAdjustmentRed | 0 |
LuminanceAdjustmentYellow | 0 |
LuminanceSmoothing | 9 |
Make | NIKON CORPORATION |
MaxApertureValue | 1.0 |
Megapixels | 1.5 |
MeteringMode | Multi-segment |
Model | NIKON D700 |
ModifyDate (1) | 2010:09:26 13:25:22+02:00 |
ModifyDate | 2010:09:26 13:25:22 |
Orientation | Horizontal (normal) |
ParametricDarks | 0 |
ParametricHighlights | 0 |
ParametricHighlightSplit | 75 |
ParametricLights | 0 |
ParametricMidtoneSplit | 50 |
ParametricShadows | 0 |
ParametricShadowSplit | 25 |
PostCropVignetteAmount | 0 |
ProfileDescription | Adobe RGB (1998) |
Rating | 0 |
RawFileName | KMS_4080.NEF |
RedHue | 0 |
RedSaturation | 0 |
Rights | Knut Sandaker |
Saturation (2) | 0 |
Saturation | High |
SaturationAdjustmentAqua | 0 |
SaturationAdjustmentBlue | 0 |
SaturationAdjustmentGreen | 0 |
SaturationAdjustmentMagenta | 0 |
SaturationAdjustmentOrange | 0 |
SaturationAdjustmentPurple | 0 |
SaturationAdjustmentRed | 0 |
SaturationAdjustmentYellow | 0 |
ScaleFactor35efl | 1.0 |
SceneCaptureType | Standard |
SceneType | Directly photographed |
SensingMethod | One-chip color area |
SerialNumber | 2124453 |
Shadows | 13 |
ShadowTint | 0 |
SharpenDetail | 25 |
SharpenEdgeMasking | 0 |
SharpenRadius | +1.0 |
Sharpness (2) | 0 |
Sharpness | Hard |
ShutterSpeed | 20 |
ShutterSpeedValue | 20 |
Software | Adobe Photoshop CS4 Macintosh |
SplitToningBalance | 0 |
SplitToningHighlightHue | 0 |
SplitToningHighlightSaturation | 0 |
SplitToningShadowHue | 0 |
SplitToningShadowSaturation | 0 |
SubjectDistanceRange | Unknown |
Tint | +5 |
ToneCurve | 0, 0, 32, 22, 64, 56, 128, 128, 192, 196, 255, 255 |
ToneCurveName | Medium Contrast |
URL_List | |
Version | 5.6 |
Vibrance | +33 |
VignetteAmount | 0 |
WhiteBalance (2) | Custom |
WhiteBalance | Auto |