Felt | Verdi |
AlreadyApplied | True |
Aperture | 5.6 |
ApertureValue | 5.6 |
Artist | unknown |
BitsPerSample | 8 |
BlueHue | 0 |
BlueSaturation | 0 |
Brightness | +114 |
By-line | unknown |
CameraProfile | Embedded |
ChromaticAberrationB | 0 |
ChromaticAberrationR | 0 |
CircleOfConfusion | 0.019 mm |
Clarity | +20 |
ColorComponents | 3 |
ColorMode | RGB |
ColorNoiseReduction | 0 |
ColorSpace | sRGB |
Contrast | +59 |
ConvertToGrayscale | False |
CreateDate (1) | 2008:09:07 14:58:23+02:00 |
CreateDate | 2008:09:07 14:58:23 |
Creator | unknown |
CreatorTool | Adobe Photoshop Lightroom |
CropAngle | 0 |
CropBottom | 1 |
CropHeight | 1838 |
CropLeft | 0 |
CropRight | 0.95 |
CropTop | 0.022472 |
CropUnit | pixels |
CropWidth | 2675 |
CustomRendered | Normal |
DateTimeDigitized | 2008:09:07 14:58:23+02:00 |
DateTimeOriginal (1) | 2008:09:07 14:58:23+02:00 |
DateTimeOriginal | 2008:09:07 14:58:23 |
Defringe | 0 |
ExifImageHeight | 1808 |
ExifImageWidth | 2652 |
Exposure | -0.48 |
ExposureCompensation | 0 |
ExposureMode | Auto |
ExposureProgram | Program AE |
ExposureTime | 1/100 |
FillLight | 15 |
Firmware | 1.0.5 |
Flash | Off, Did not fire |
FlashCompensation | 0 |
FlashFired | False |
FlashFunction | False |
FlashMode | Off |
FlashRedEyeMode | False |
FlashReturn | No return detection |
FNumber | 5.6 |
FocalLength | 18.0 mm |
FocalLength35efl | 18.0 mm (35 mm equivalent: 29.1 mm) |
Format | image/jpeg |
FOV | 63.4 deg |
GreenHue | 0 |
GreenSaturation | 0 |
HasCrop | True |
HasSettings | True |
HighlightRecovery | 0 |
HueAdjustmentAqua | 0 |
HueAdjustmentBlue | 0 |
HueAdjustmentGreen | 0 |
HueAdjustmentMagenta | 0 |
HueAdjustmentOrange | 0 |
HueAdjustmentPurple | 0 |
HueAdjustmentRed | -100 |
HueAdjustmentYellow | 0 |
HyperfocalDistance | 3.12 m |
ICCProfileName | sRGB IEC61966-2.1 |
ImageHeight (1) | 1838 |
ImageHeight | 1808 |
ImageNumber | 80 |
ImageSize | 2652x1808 |
ImageWidth (1) | 2675 |
ImageWidth | 2652 |
IncrementalTemperature | -74 |
IncrementalTint | -10 |
ISO | 400 |
Label | Red |
Lens | EF-S18-55mm f/3.5-5.6 |
LensInfo | 18-55mm f/? |
LightValue | 9.6 |
LuminanceAdjustmentAqua | 0 |
LuminanceAdjustmentBlue | +5 |
LuminanceAdjustmentGreen | 0 |
LuminanceAdjustmentMagenta | 0 |
LuminanceAdjustmentOrange | 0 |
LuminanceAdjustmentPurple | 0 |
LuminanceAdjustmentRed | 0 |
LuminanceAdjustmentYellow | 0 |
LuminanceSmoothing | 0 |
Make | Canon |
MaxApertureValue | 3.5 |
Megapixels | 4.8 |
MeteringMode | Multi-segment |
Model | Canon EOS 400D DIGITAL |
ModifyDate (1) | 2009:09:02 22:11:39+02:00 |
ModifyDate | 2009:09:02 22:11:39 |
Orientation | Horizontal (normal) |
OwnerName | unknown |
ParametricDarks | +43 |
ParametricHighlights | +100 |
ParametricHighlightSplit | 75 |
ParametricLights | +2 |
ParametricMidtoneSplit | 50 |
ParametricShadows | +29 |
ParametricShadowSplit | 25 |
PostCropVignetteAmount | -2 |
PostCropVignetteFeather | 100 |
PostCropVignetteMidpoint | 50 |
PostCropVignetteRoundness | 0 |
ProfileDescription | sRGB IEC61966-2.1 |
RedHue | 0 |
RedSaturation | 0 |
Saturation | -5 |
SaturationAdjustmentAqua | 0 |
SaturationAdjustmentBlue | 0 |
SaturationAdjustmentGreen | 0 |
SaturationAdjustmentMagenta | 0 |
SaturationAdjustmentOrange | 0 |
SaturationAdjustmentPurple | 0 |
SaturationAdjustmentRed | 0 |
SaturationAdjustmentYellow | 0 |
ScaleFactor35efl | 1.6 |
SceneCaptureType | Standard |
SerialNumber | 1030546442 |
Shadows | 7 |
ShadowTint | 0 |
SharpenDetail | 25 |
SharpenEdgeMasking | 0 |
SharpenRadius | +1.0 |
Sharpness | 0 |
ShutterSpeed | 1/100 |
ShutterSpeedValue | 1/100 |
Software | Adobe Photoshop CS4 Windows |
SplitToningBalance | 0 |
SplitToningHighlightHue | 0 |
SplitToningHighlightSaturation | 0 |
SplitToningShadowHue | 0 |
SplitToningShadowSaturation | 0 |
ToneCurve | 0, 0, 255, 255 |
ToneCurveName | Linear |
URL_List | |
Version | 5.4 |
Vibrance | 0 |
VignetteAmount | -100 |
VignetteMidpoint | 26 |
WhiteBalance (2) | Custom |
WhiteBalance | Auto |