Felt | Verdi |
AlreadyApplied | True |
Aperture | 4.5 |
ApertureValue | 4.5 |
Artist | Erlend Krumsvik |
BitsPerSample | 8 |
BlueHue | 0 |
BlueSaturation | 0 |
Brightness | +50 |
By-line | Erlend Krumsvik |
CameraProfile | Adobe Standard |
ChromaticAberrationB | 0 |
ChromaticAberrationR | 0 |
CircleOfConfusion | 0.024 mm |
Clarity | 0 |
ColorComponents | 3 |
ColorNoiseReduction | 25 |
ColorSpace | Uncalibrated |
ColorTemperature | 5200 |
Contrast (2) | +25 |
Contrast | Normal |
ConvertToGrayscale | False |
Copyright | Naturlegvis/Erlend Krumsvik |
CopyrightFlag | True |
CopyrightNotice | Naturlegvis/Erlend Krumsvik |
Country | Norge |
Country-PrimaryLocationName | Norge |
CreateDate | 2009:07:04 00:19:56 |
Creator | Erlend Krumsvik |
CreatorAddress | Øvrevegen 19 |
CreatorCity | Volda |
CreatorCountry | Norway |
CreatorPostalCode | 6100 |
CreatorTool | Adobe Photoshop Lightroom |
CreatorWorkEmail | erlend@naturlegvis.no |
CropAngle | 0 |
CropBottom | 0.888829 |
CropHeight | 576 |
CropLeft | 0 |
CropRight | 1 |
CropTop | 0.045079 |
CropUnit | pixels |
CropWidth | 1024 |
CustomRendered | Normal |
DateTimeDigitized | 2009:07:04 00:19:56+02:00 |
DateTimeOriginal | 2009:07:04 00:19:56 |
Defringe | 0 |
ExifImageHeight | 576 |
ExifImageWidth | 1024 |
Exposure | -0.86 |
ExposureCompensation | 0 |
ExposureMode | Auto |
ExposureProgram | Aperture-priority AE |
ExposureTime | 1/80 |
FillLight | 0 |
Firmware | 1.2.6 |
Flash | Off, Did not fire |
FlashCompensation | 0 |
FlashFired | False |
FlashFunction | False |
FlashMode | Off |
FlashRedEyeMode | False |
FlashReturn | No return detection |
FNumber | 4.5 |
FocalLength | 400.0 mm |
FocalLength35efl | 400.0 mm (35 mm equivalent: 499.3 mm) |
FOV | 4.1 deg |
GeotateGRL | {9c8c379f-3847-40b7-a14e-8ca87b1c85e6} |
GPSAltitude (1) | 48.4896995708155 m |
GPSAltitude (2) | 48.48969957 m |
GPSAltitude | 48.4 m Above Sea Level |
GPSAltitudeRef | Above Sea Level |
GPSDateStamp | 2009:07:03 |
GPSDateTime (1) | 2009:07:03 22:19:57 |
GPSDateTime | 2009:07:03 22:19:57Z |
GPSLatitude (1) | 67 deg 12' 25.87" N |
GPSLatitude | |
GPSLatitudeRef | North |
GPSLongitude (1) | 14 deg 40' 32.73" E |
GPSLongitude | |
GPSLongitudeRef | East |
GPSMapDatum | WGS-84 |
GPSTimeStamp | 22:19:57 |
GPSVersionID | 2 2 0 0 |
GreenHue | 0 |
GreenSaturation | 0 |
HasCrop | True |
HasSettings | True |
HighlightRecovery | 0 |
HueAdjustmentAqua | 0 |
HueAdjustmentBlue | 0 |
HueAdjustmentGreen | 0 |
HueAdjustmentMagenta | 0 |
HueAdjustmentOrange | 0 |
HueAdjustmentPurple | 0 |
HueAdjustmentRed | 0 |
HueAdjustmentYellow | 0 |
HyperfocalDistance | 1477.21 m |
ImageHeight | 576 |
ImageNumber | 61962 |
ImageSize | 1024x576 |
ImageWidth | 1024 |
ISO | 640 |
Keywords | 812, Bodø, Norge |
Lens | 400 |
LensInfo | 400mm f/? |
LightValue | 8.0 |
Location | 812 |
LuminanceAdjustmentAqua | 0 |
LuminanceAdjustmentBlue | 0 |
LuminanceAdjustmentGreen | 0 |
LuminanceAdjustmentMagenta | 0 |
LuminanceAdjustmentOrange | 0 |
LuminanceAdjustmentPurple | 0 |
LuminanceAdjustmentRed | 0 |
LuminanceAdjustmentYellow | 0 |
LuminanceSmoothing | 0 |
Make | Canon |
Marked | True |
MaxApertureValue | 4.0 |
Megapixels | 0.590 |
MeteringMode | Spot |
Model | Canon EOS-1D Mark II |
ModifyDate (1) | 2009:08:26 15:16:52+02:00 |
ModifyDate | 2009:08:26 15:16:52 |
OwnerName | Erlend Krumsvik |
ParametricDarks | -2 |
ParametricHighlights | +55 |
ParametricHighlightSplit | 75 |
ParametricLights | 0 |
ParametricMidtoneSplit | 50 |
ParametricShadows | -14 |
ParametricShadowSplit | 25 |
PostCropVignetteAmount | 0 |
ProfileDescription | sRGB IEC61966-2.1 |
Province-State | Bodø |
RedHue | 0 |
RedSaturation | 0 |
Rights | Naturlegvis/Erlend Krumsvik |
Saturation (2) | +21 |
Saturation | Normal |
SaturationAdjustmentAqua | 0 |
SaturationAdjustmentBlue | 0 |
SaturationAdjustmentGreen | 0 |
SaturationAdjustmentMagenta | 0 |
SaturationAdjustmentOrange | 0 |
SaturationAdjustmentPurple | 0 |
SaturationAdjustmentRed | 0 |
SaturationAdjustmentYellow | 0 |
ScaleFactor35efl | 1.2 |
SceneCaptureType | Standard |
SerialNumber | 222865 |
Shadows | 5 |
ShadowTint | 0 |
SharpenDetail | 25 |
SharpenEdgeMasking | 0 |
SharpenRadius | +1.0 |
Sharpness (2) | 25 |
Sharpness | Normal |
ShutterSpeed | 1/80 |
ShutterSpeedValue | 1/80 |
SplitToningBalance | 0 |
SplitToningHighlightHue | 0 |
SplitToningHighlightSaturation | 0 |
SplitToningShadowHue | 0 |
SplitToningShadowSaturation | 0 |
State | Bodø |
Sub-location | 812 |
Subject | 812, Bodø, Norge |
Tint | +12 |
ToneCurve | 0, 0, 32, 22, 64, 56, 128, 128, 192, 196, 255, 255 |
ToneCurveName | Medium Contrast |
UsageTerms | Opphavsretten tilhører fotografen, og bildene leveres med reproduksjonsrett for en gangs bruk om ikke annet er avtalt. |
UserComment | |
Version | 5.4 |
Vibrance | 0 |
VignetteAmount | 0 |
WhiteBalance (2) | As Shot |
WhiteBalance | Auto |