Felt | Verdi |
AlreadyApplied | True |
Aperture | 9.0 |
ApertureValue | 9.0 |
BitsPerSample | 8 |
BlueHue | 0 |
BlueSaturation | 0 |
Brightness | +50 |
CameraProfile | ACR 4.4 |
CFAPattern | [Red,Green][Green,Blue] |
ChromaticAberrationB | 0 |
ChromaticAberrationR | 0 |
CircleOfConfusion | 0.020 mm |
Clarity | 0 |
ColorComponents | 3 |
ColorNoiseReduction | 25 |
ColorTemperature | 5150 |
Contrast (2) | +25 |
Contrast | Normal |
ConvertToGrayscale | False |
Copyright | Kenneth Paulsen |
CopyrightNotice | Kenneth Paulsen |
CreateDate | 2008:04:14 19:55:17 |
CreatorTool | Adobe Photoshop Lightroom |
CustomRendered | Normal |
DateTimeDigitized | 2008:04:14 19:55:17.00+02:00 |
DateTimeOriginal (1) | 2008:04:14 19:55:17.00+02:00 |
DateTimeOriginal | 2008:04:14 19:55:17 |
Defringe | 0 |
DigitalZoomRatio | 1 |
Exposure | +0.58 |
ExposureCompensation | 0 |
ExposureMode | Auto |
ExposureProgram | Aperture-priority AE |
ExposureTime | 1/5 |
FillLight | 33 |
Flash | No Flash |
FlashFired | False |
FlashFunction | False |
FlashMode | Unknown |
FlashRedEyeMode | False |
FlashReturn | No return detection |
FNumber | 9.0 |
FocalLength | 82.0 mm |
FocalLength35efl | 82.0 mm (35 mm equivalent: 123.0 mm) |
FocalLengthIn35mmFormat | 123 mm |
FOV | 16.7 deg |
GainControl | None |
GreenHue | 0 |
GreenSaturation | 0 |
HasCrop | False |
HasSettings | True |
HighlightRecovery | 0 |
HueAdjustmentAqua | 0 |
HueAdjustmentBlue | 0 |
HueAdjustmentGreen | 0 |
HueAdjustmentMagenta | 0 |
HueAdjustmentOrange | 0 |
HueAdjustmentPurple | 0 |
HueAdjustmentRed | 0 |
HueAdjustmentYellow | 0 |
HyperfocalDistance | 37.30 m |
ImageHeight | 680 |
ImageNumber | 2862 |
ImageSize | 1024x680 |
ImageWidth | 1024 |
ISO | 200 |
Keywords | Malm¿ya, solvik, vann |
Lens | 18.0-200.0 mm f/3.5-5.6 |
LensInfo | 18-200mm f/3.5-5.6 |
LightSource | Unknown |
LightValue | 7.7 |
LuminanceAdjustmentAqua | 0 |
LuminanceAdjustmentBlue | 0 |
LuminanceAdjustmentGreen | 0 |
LuminanceAdjustmentMagenta | 0 |
LuminanceAdjustmentOrange | 0 |
LuminanceAdjustmentPurple | 0 |
LuminanceAdjustmentRed | 0 |
LuminanceAdjustmentYellow | 0 |
LuminanceSmoothing | 0 |
Make | NIKON CORPORATION |
Marked | True |
MaxApertureValue | 5.1 |
Megapixels | 0.696 |
MeteringMode | Multi-segment |
Model | NIKON D300 |
ModifyDate (1) | 2008:04:24 14:56:01+02:00 |
ModifyDate | 2008:04:24 14:56:01 |
ParametricDarks | +36 |
ParametricHighlights | 0 |
ParametricHighlightSplit | 75 |
ParametricLights | +22 |
ParametricMidtoneSplit | 50 |
ParametricShadows | +62 |
ParametricShadowSplit | 25 |
ProfileDescription | Adobe RGB (1998) |
Rating | 5 |
RedHue | 0 |
RedSaturation | 0 |
Rights | Kenneth Paulsen |
Saturation (2) | 0 |
Saturation | Normal |
SaturationAdjustmentAqua | 0 |
SaturationAdjustmentBlue | 0 |
SaturationAdjustmentGreen | 0 |
SaturationAdjustmentMagenta | 0 |
SaturationAdjustmentOrange | 0 |
SaturationAdjustmentPurple | 0 |
SaturationAdjustmentRed | 0 |
SaturationAdjustmentYellow | 0 |
ScaleFactor35efl | 1.5 |
SceneCaptureType | Standard |
SceneType | Directly photographed |
SensingMethod | One-chip color area |
Shadows | 6 |
ShadowTint | 0 |
SharpenDetail | 25 |
SharpenEdgeMasking | 0 |
SharpenRadius | +1.0 |
Sharpness (2) | 25 |
Sharpness | Normal |
ShutterSpeed | 1/5 |
ShutterSpeedValue | 1/5 |
Software | Ver.1.00 |
SplitToningBalance | 0 |
SplitToningHighlightHue | 0 |
SplitToningHighlightSaturation | 0 |
SplitToningShadowHue | 0 |
SplitToningShadowSaturation | 0 |
Subject | Malmøya, solvik, vann |
SubjectDistanceRange | Unknown |
Tint | -11 |
ToneCurve | 0, 0, 32, 22, 64, 56, 128, 128, 192, 196, 255, 255 |
ToneCurveName | Medium Contrast |
Version | 4.4.1 |
Vibrance | 0 |
VignetteAmount | 0 |
WhiteBalance (2) | As Shot |
WhiteBalance | Auto |