Felt | Verdi |
AlreadyApplied | True |
Aperture | 4.0 |
ApertureValue | 4.0 |
Artist | Geir Helge Solevåg |
BitsPerSample (1) | 16, 16, 16 |
BitsPerSample (2) | 16 16 16 |
BitsPerSample | 8 |
BlueHue | 0 |
BlueSaturation | 0 |
Brightness | +50 |
By-line | Geir Helge SolevŒg |
CameraProfile | ACR 2.4 |
ChromaticAberrationB | 0 |
ChromaticAberrationR | 0 |
CircleOfConfusion | 0.030 mm |
Clarity | 4 |
ColorComponents | 3 |
ColorMode | RGB |
ColorNoiseReduction | 25 |
ColorSpace | sRGB |
ColorTemperature | 4262 |
Contrast | +33 |
ConvertToGrayscale | False |
Copyright | Geir Helge Solevåg |
CopyrightFlag | False |
CopyrightNotice | Geir Helge SolevŒg |
CreateDate (1) | 2008:04:18 21:19:42+02:00 |
CreateDate | 2007:04:14 14:44:44 |
Creator | Geir Helge Solevåg |
CreatorTool | Adobe Photoshop CS3 Macintosh |
CropAngle | 0 |
CropBottom | 0.850035 |
CropHeight | 1758 |
CropLeft | 0.174292 |
CropRight | 0.935793 |
CropTop | 0.097594 |
CropUnit | pixels |
CropWidth | 2668 |
CustomRendered | Normal |
DateTimeDigitized | 2007:04:14 14:44:44+02:00 |
DateTimeOriginal (1) | 2007:04:14 14:44:44+02:00 |
DateTimeOriginal | 2007:04:14 14:44:44 |
Defringe | 0 |
DerivedFrom | |
ExifImageHeight | 626 |
ExifImageWidth | 950 |
Exposure | +0.10 |
ExposureCompensation | +2/3 |
ExposureMode | Auto |
ExposureProgram | Aperture-priority AE |
ExposureTime | 1/400 |
FillLight | 13 |
Firmware | 1.0.5 |
Flash | Off, Did not fire |
FlashCompensation | 0 |
FlashFired | False |
FlashFunction | False |
FlashMode | Off |
FlashRedEyeMode | False |
FlashReturn | No return detection |
FNumber | 4.0 |
FocalLength | 300.0 mm |
FocalLength35efl | 300.0 mm (35 mm equivalent: 302.2 mm) |
Format | image/jpeg |
FOV | 6.8 deg |
GreenHue | 0 |
GreenSaturation | 0 |
HasCrop | True |
HasSettings | True |
HierarchicalSubject | Fauna|Dyr|Fugler|Vadere|Gråhegre, Steder|Sula kommune, myra |
HighlightRecovery | 12 |
HueAdjustmentAqua | 0 |
HueAdjustmentBlue | 0 |
HueAdjustmentGreen | 0 |
HueAdjustmentMagenta | 0 |
HueAdjustmentOrange | 0 |
HueAdjustmentPurple | 0 |
HueAdjustmentRed | 0 |
HueAdjustmentYellow | 0 |
HyperfocalDistance | 754.22 m |
ICCProfileName | sRGB IEC61966-2.1 |
ImageHeight (2) | 1758 |
ImageHeight | 626 |
ImageNumber | 207 |
ImageSize | 950x626 |
ImageWidth (2) | 2668 |
ImageWidth | 950 |
ISO | 400 |
Keywords | Dyr, Fauna, Fugler, GrŒhegre, Steder, Sula kommune, Vadere, myra |
Lens | 300.0 mm |
LensInfo | 300mm f/? |
LightValue | 10.6 |
Location | |
LuminanceAdjustmentAqua | 0 |
LuminanceAdjustmentBlue | 0 |
LuminanceAdjustmentGreen | 0 |
LuminanceAdjustmentMagenta | 0 |
LuminanceAdjustmentOrange | 0 |
LuminanceAdjustmentPurple | 0 |
LuminanceAdjustmentRed | 0 |
LuminanceAdjustmentYellow | 0 |
LuminanceSmoothing | 0 |
Make | Canon |
MaxApertureValue | 4.0 |
Megapixels | 0.595 |
MeteringMode | Average |
Model | Canon EOS 20D |
ModifyDate (1) | 2008:04:18 21:19:42+02:00 |
ModifyDate | 2008:04:18 21:19:42 |
Orientation | Horizontal (normal) |
OwnerName | unknown |
ParametricDarks | -12 |
ParametricHighlights | -10 |
ParametricHighlightSplit | 75 |
ParametricLights | -8 |
ParametricMidtoneSplit | 50 |
ParametricShadows | -17 |
ParametricShadowSplit | 25 |
PhotometricInterpretation | RGB |
PlanarConfiguration | Chunky |
ProfileDescription | sRGB IEC61966-2.1 |
RedHue | 0 |
RedSaturation | 0 |
Rights | Geir Helge Solevåg |
SamplesPerPixel | 3 |
Saturation | +2 |
SaturationAdjustmentAqua | 0 |
SaturationAdjustmentBlue | 0 |
SaturationAdjustmentGreen | 0 |
SaturationAdjustmentMagenta | 0 |
SaturationAdjustmentOrange | 0 |
SaturationAdjustmentPurple | 0 |
SaturationAdjustmentRed | 0 |
SaturationAdjustmentYellow | 0 |
ScaleFactor35efl | 1.0 |
SceneCaptureType | Standard |
SerialNumber | 630315951 |
Shadows | 2 |
ShadowTint | 0 |
SharpenDetail | 0 |
SharpenEdgeMasking | 0 |
SharpenRadius | +0.5 |
Sharpness | 0 |
ShutterSpeed | 1/400 |
ShutterSpeedValue | 1/400 |
Software | Adobe Photoshop CS3 Macintosh |
SplitToningBalance | 0 |
SplitToningHighlightHue | 0 |
SplitToningHighlightSaturation | 0 |
SplitToningShadowHue | 0 |
SplitToningShadowSaturation | 0 |
Subject | Dyr, Fauna, Fugler, Gråhegre, Steder, Sula kommune, Vadere, myra |
Tint | +4 |
Title | |
ToneCurve | 0, 0, 32, 22, 64, 56, 128, 128, 192, 196, 255, 255 |
ToneCurveName | Medium Contrast |
URL_List | |
Version | 1.0 |
Vibrance | +15 |
VignetteAmount | 0 |
WhiteBalance (2) | Custom |
WhiteBalance | Auto |