Felt | Verdi |
AlreadyApplied | True |
Aperture | 5.6 |
ApertureValue | 5.6 |
BitsPerSample | 8 |
BlueHue | 0 |
BlueSaturation | 0 |
Brightness | +50 |
CameraProfile | ACR 2.4 |
ChromaticAberrationB | 0 |
ChromaticAberrationR | 0 |
Clarity | 0 |
ColorComponents | 1 |
ColorMode | RGB |
ColorNoiseReduction | 9 |
ColorSpace | sRGB |
ColorTemperature | 7165 |
Contrast | +52 |
ConvertToGrayscale | False |
Copyright | Geir Helge Solevåg |
CopyrightFlag | False |
CopyrightNotice | Geir Helge Solevåg |
CreateDate (1) | 2004:03:31 17:08:32+02:00 |
CreateDate | 2004:03:31 17:08:32 |
CreatorTool | Adobe Photoshop CS2 Windows |
CropAngle | 0 |
CropBottom | 0.708207 |
CropHeight | 1220 |
CropLeft | 0 |
CropRight | 1 |
CropTop | 0.112462 |
CropUnit | pixels |
CropWidth | 3072 |
DateTimeDigitized | 2004:03:31 17:08:32+02:00 |
DateTimeOriginal (1) | 2004:03:31 17:08:32+02:00 |
DateTimeOriginal | 2004:03:31 17:08:32 |
Defringe | 0 |
ExifImageHeight | 357 |
ExifImageWidth | 900 |
Exposure | +2.12 |
ExposureCompensation | -1/3 |
ExposureProgram | Aperture-priority AE |
ExposureTime | 1/2000 |
FillLight | 0 |
Firmware | 1.0.0 |
Flash | No Flash |
FlashFired | False |
FNumber | 5.6 |
FocalLength | 600.0 mm |
FocalLength35efl | 600.0 mm |
Format | image/jpeg |
GreenHue | 0 |
GreenSaturation | 0 |
HasCrop | True |
HasSettings | True |
HighlightRecovery | 0 |
HueAdjustmentAqua | 0 |
HueAdjustmentBlue | 0 |
HueAdjustmentGreen | 0 |
HueAdjustmentMagenta | 0 |
HueAdjustmentOrange | 0 |
HueAdjustmentPurple | 0 |
HueAdjustmentRed | 0 |
HueAdjustmentYellow | 0 |
ICCProfileName | sRGB IEC61966-2.1 |
ImageHeight (1) | 1220 |
ImageHeight | 357 |
ImageSize | 900x357 |
ImageWidth (1) | 3072 |
ImageWidth | 900 |
ISO | 100 |
Keywords | Dyr, Fauna, Fugler, Storskarv, flukt, silhuett, sjøfugl, skarver |
Lens | 300.0 mm |
LensInfo | 300mm f/? |
LightValue | 15.9 |
LuminanceAdjustmentAqua | 0 |
LuminanceAdjustmentBlue | 0 |
LuminanceAdjustmentGreen | 0 |
LuminanceAdjustmentMagenta | 0 |
LuminanceAdjustmentOrange | 0 |
LuminanceAdjustmentPurple | 0 |
LuminanceAdjustmentRed | 0 |
LuminanceAdjustmentYellow | 0 |
LuminanceSmoothing | 0 |
Make | Canon |
MaxApertureValue | 5.6 |
Megapixels | 0.321 |
MeteringMode | Multi-segment |
Model | Canon EOS 10D |
ModifyDate (1) | 2007:12:04 19:48:38+01:00 |
ModifyDate | 2007:12:04 19:48:38 |
Orientation | Horizontal (normal) |
ParametricDarks | -46 |
ParametricHighlights | +36 |
ParametricHighlightSplit | 75 |
ParametricLights | +32 |
ParametricMidtoneSplit | 50 |
ParametricShadows | -46 |
ParametricShadowSplit | 25 |
ProfileDescription | sRGB IEC61966-2.1 |
RedHue | 0 |
RedSaturation | 0 |
Rights | Geir Helge Solevåg |
Saturation | -100 |
SaturationAdjustmentAqua | 0 |
SaturationAdjustmentBlue | 0 |
SaturationAdjustmentGreen | 0 |
SaturationAdjustmentMagenta | 0 |
SaturationAdjustmentOrange | 0 |
SaturationAdjustmentPurple | 0 |
SaturationAdjustmentRed | 0 |
SaturationAdjustmentYellow | 0 |
Shadows | 20 |
ShadowTint | 0 |
SharpenDetail | 25 |
SharpenEdgeMasking | 0 |
SharpenRadius | +0.6 |
Sharpness | 25 |
ShutterSpeed | 1/2000 |
ShutterSpeedValue | 1/2000 |
Software | Adobe Photoshop CS2 Windows |
SplitToningBalance | 0 |
SplitToningHighlightHue | 0 |
SplitToningHighlightSaturation | 0 |
SplitToningShadowHue | 0 |
SplitToningShadowSaturation | 0 |
Subject | Dyr, Fauna, Fugler, Storskarv, flukt, silhuett, sjøfugl, skarver |
Tint | +8 |
ToneCurve | 0, 0, 32, 22, 64, 56, 128, 128, 192, 196, 255, 255 |
ToneCurveName | Medium Contrast |
URL_List | |
Version | 1.0 |
Vibrance | +10 |
VignetteAmount | 0 |
WhiteBalance | Custom |