Felt | Verdi |
AlreadyApplied | True |
Aperture | 1.8 |
ApertureValue | 1.8 |
AutoLateralCA | 0 |
BitsPerSample | 8 |
Blacks2012 | 0 |
BlueHue | 0 |
BlueSaturation | 0 |
Brightness | +50 |
CameraProfile | Embedded |
Caption-Abstract | OLYMPUS DIGITAL CAMERA |
CircleOfConfusion | 0.015 mm |
Clarity2012 | +18 |
ColorComponents | 3 |
ColorGradeBlending | 50 |
ColorGradeGlobalHue | 0 |
ColorGradeGlobalLum | 0 |
ColorGradeGlobalSat | 0 |
ColorGradeHighlightLum | 0 |
ColorGradeMidtoneHue | 0 |
ColorGradeMidtoneLum | 0 |
ColorGradeMidtoneSat | 0 |
ColorGradeShadowLum | 0 |
ColorNoiseReduction | 0 |
ColorSpace | sRGB |
ColorTransform | YCbCr |
CompatibleVersion | 268435456 |
Contrast (1) | +25 |
Contrast | Normal |
Contrast2012 | +45 |
ConvertToGrayscale | False |
CreateDate | 2023:11:24 09:52:59 |
CreatorTool | Adobe Lightroom 7.4.1 (Macintosh) |
CropAngle | 0.38 |
CropBottom | 0.908967 |
CropConstrainToWarp | 0 |
CropLeft | 0.100203 |
CropRight | 0.971741 |
CropTop | 0.077713 |
CurveRefineSaturation | 17 |
CustomRendered | Custom |
DateCreated (1) | 2023:11:24 |
DateCreated | 2023:11:24 09:52:59 |
DateTimeOriginal | 2023:11:24 09:52:59 |
DefringeGreenAmount | 0 |
DefringeGreenHueHi | 60 |
DefringeGreenHueLo | 40 |
DefringePurpleAmount | 0 |
DefringePurpleHueHi | 70 |
DefringePurpleHueLo | 30 |
Dehaze | +50 |
DepthMapInfoBaseHighlightGuideTable | 6E019D8CCC953CC14732EEB14421A8C6 |
DepthMapInfoBaseHighlightGuideVersion | 1 |
DepthMapInfoBaseLayeredDepthTable | D0CFF5DCD7886B152FCCAD00F3B2CDF0 |
DepthMapInfoBaseLayeredDepthVersion | 1 |
DepthMapInfoBaseRawDepthTable | 21969FD9EE153CE5499B05602E4A10D5 |
DepthMapInfoBaseRawDepthVersion | 12 |
DepthMapInfoDepthSource | 2 |
Description | OLYMPUS DIGITAL CAMERA |
DigitalZoomRatio | 1 |
Exposure2012 | +0.23 |
ExposureCompensation | 0 |
ExposureMode | Manual |
ExposureProgram | Creative (Slow speed) |
ExposureTime | 1/320 |
Flash | On, Did not fire |
FlashCompensation | 0 |
FNumber | 1.8 |
FocalLength | 17.0 mm |
FocalLength35efl | 17.0 mm (35 mm equivalent: 34.0 mm) |
FocalLengthIn35mmFormat | 34 mm |
Format | image/jpeg |
FOV | 55.8 deg |
GainControl | High gain up |
GrainAmount | 100 |
GrainFrequency | 50 |
GrainSize | 25 |
GreenHue | 0 |
GreenSaturation | 0 |
HasCrop | True |
HasSettings | True |
HDREditMode | 0 |
Highlights2012 | +8 |
HueAdjustmentAqua | -78 |
HueAdjustmentBlue | +90 |
HueAdjustmentGreen | +52 |
HueAdjustmentMagenta | -37 |
HueAdjustmentOrange | -36 |
HueAdjustmentPurple | -31 |
HueAdjustmentRed | +7 |
HueAdjustmentYellow | -49 |
HyperfocalDistance | 10.69 m |
ImageDescription | OLYMPUS DIGITAL CAMERA |
ImageHeight | 1976 |
ImageSize | 2802x1976 |
ImageWidth | 2802 |
IncrementalTemperature | 0 |
IncrementalTint | 0 |
ISO | 6400 |
Lens | OLYMPUS M.17mm F1.8 |
LensBlurActive | true |
LensBlurBlurAmount | 63 |
LensBlurBokehAspect | 0 |
LensBlurBokehRotation | 0 |
LensBlurBokehShape | 1 |
LensBlurBokehShapeDetail | 3 |
LensBlurCatEyeAmount | 0 |
LensBlurCatEyeScale | 100 |
LensBlurFocalRange | -8 72 100 180 |
LensBlurFocalRangeSource | 1 |
LensBlurHighlightsBoost | 18 |
LensBlurHighlightsThreshold | 50 |
LensBlurSampledArea | 0.493340 0.535972 0.493340 0.535972 |
LensBlurSampledRange | 0 0 |
LensBlurSphericalAberration | 25 |
LensBlurSubjectRange | 72 100 |
LensBlurVersion | 1 |
LensInfo | 17mm f/1.8 |
LensManualDistortionAmount | 0 |
LensModel | OLYMPUS M.17mm F1.8 |
LensProfileEnable | 0 |
LensSerialNumber | ABTA73856 |
LightSource | Unknown |
LightValue | 4.0 |
LuminanceAdjustmentAqua | 0 |
LuminanceAdjustmentBlue | 0 |
LuminanceAdjustmentGreen | 0 |
LuminanceAdjustmentMagenta | 0 |
LuminanceAdjustmentOrange | 0 |
LuminanceAdjustmentPurple | 0 |
LuminanceAdjustmentRed | 0 |
LuminanceAdjustmentYellow | 0 |
LuminanceSmoothing | 0 |
Make | OLYMPUS CORPORATION |
MaxApertureValue | 1.8 |
Megapixels | 5.5 |
MeteringMode | Multi-segment |
Model | E-M1MarkII |
ModifyDate (1) | 2024:07:15 22:19:35+02:00 |
ModifyDate | 2024:07:15 22:19:35 |
OverrideLookVignette | False |
ParametricDarks | -34 |
ParametricHighlights | -68 |
ParametricHighlightSplit | 90 |
ParametricLights | -31 |
ParametricMidtoneSplit | 50 |
ParametricShadows | 0 |
ParametricShadowSplit | 25 |
PerspectiveAspect | 0 |
PerspectiveHorizontal | 0 |
PerspectiveRotate | 0.0 |
PerspectiveScale | 100 |
PerspectiveUpright | 0 |
PerspectiveVertical | 0 |
PerspectiveX | 0.00 |
PerspectiveY | 0.00 |
PointColors | 2.586001, 0.572883, 0.118938, 0.000000, 0.000000, 0.000000, 0.500000, 0.000000, 0.333333, 0.666667, 1.000000, 0.000000, 0.392883, 0.752883, 1.000000, 0.000000, 0.199480, 0.559480, 1.000000 |
PostCropVignetteAmount | -14 |
PostCropVignetteFeather | 50 |
PostCropVignetteHighlightContrast | 0 |
PostCropVignetteMidpoint | 50 |
PostCropVignetteRoundness | 0 |
PostCropVignetteStyle | 1 |
ProcessVersion | 15.4 |
ProfileDescription | sRGB IEC61966-2.1 |
RawFileName | PB240739.JPG |
RedHue | 0 |
RedSaturation | 0 |
Saturation (1) | 0 |
Saturation | High |
SaturationAdjustmentAqua | 0 |
SaturationAdjustmentBlue | 0 |
SaturationAdjustmentGreen | 0 |
SaturationAdjustmentMagenta | 0 |
SaturationAdjustmentOrange | 0 |
SaturationAdjustmentPurple | 0 |
SaturationAdjustmentRed | 0 |
SaturationAdjustmentYellow | 0 |
ScaleFactor35efl | 2.0 |
SceneCaptureType | Standard |
SensitivityType | Standard Output Sensitivity |
SerialNumber | BHUB20830 |
Shadows | 5 |
Shadows2012 | -29 |
ShadowTint | 0 |
SharpenDetail | 25 |
SharpenEdgeMasking | 0 |
SharpenRadius | +1.0 |
Sharpness (1) | 115 |
Sharpness | Normal |
ShutterSpeed | 1/320 |
ShutterSpeedValue | 1/320 |
Software | Adobe Lightroom 7.4.1 (Macintosh) |
SplitToningBalance | 0 |
SplitToningHighlightHue | 0 |
SplitToningHighlightSaturation | 0 |
SplitToningShadowHue | 0 |
SplitToningShadowSaturation | 0 |
Texture | +82 |
ToneCurveName2012 | Custom |
ToneCurvePV2012 | 0, 0, 19, 17, 47, 32, 70, 63, 99, 79, 125, 118, 138, 154, 170, 162, 201, 195, 213, 226, 225, 241, 255, 255 |
ToneCurvePV2012Blue | 0, 0, 255, 255 |
ToneCurvePV2012Green | 0, 0, 255, 255 |
ToneCurvePV2012Red | 0, 0, 255, 255 |
Version | 16.4 |
Vibrance | 0 |
VignetteAmount | 0 |
WhiteBalance (1) | As Shot |
WhiteBalance | Auto |
Whites2012 | 0 |