Felt | Verdi |
AlreadyApplied | True |
Aperture | 8.0 |
ApertureValue | 8.0 |
AutoLateralCA | 1 |
BitsPerSample | 8 |
Blacks2012 | 0 |
BlueHue | 0 |
BlueSaturation | 0 |
BrightnessValue | 9.72 |
CameraProfile | Camera PROVIA/Standard |
CameraProfilesApertureValue | 6 |
CameraProfilesAuthor | Adobe |
CameraProfilesAutoScale | False |
CameraProfilesCameraPrettyName | Fujifilm X-H2S |
CameraProfilesCameraRawProfile | True |
CameraProfilesFocalLength | 80.4 |
CameraProfilesFocusDistance | 10000 |
CameraProfilesLens | XF50-140mmF2.8 R LM OIS WR |
CameraProfilesLensPrettyName | XF50-140mmF2.8 R LM OIS WR |
CameraProfilesMake | FUJIFILM |
CameraProfilesModel | X-H2S |
CameraProfilesPerspectiveModelRadialDistortParam1 | -0.108574 |
CameraProfilesPerspectiveModelRadialDistortParam2 | 45.340817 |
CameraProfilesPerspectiveModelRadialDistortParam3 | -808.657798 |
CameraProfilesPerspectiveModelScaleFactor | 0.984163 |
CameraProfilesPerspectiveModelVersion | 2 |
CameraProfilesPerspectiveModelVignetteModelVignetteModelParam1 | 1 |
CameraProfilesPerspectiveModelVignetteModelVignetteModelPiecewiseParam | 0.000000, 1.000000, 0.062080, 0.996108, 0.087803, 0.996108, 0.107589, 0.996108, 0.124161, 0.996108, 0.138877, 0.992246, 0.152109, 0.988413, 0.164228, 0.976631, 0.175606, 0.961050, 0.186241, 0.961050 |
CameraProfilesProfileName | Camera Settings |
CameraProfilesSensorFormatFactor | 1.531929 |
CameraProfilesUniqueCameraModel | Fujifilm X-H2S |
CircleOfConfusion | 0.020 mm |
Clarity2012 | +26 |
ColorComponents | 3 |
ColorGradeBlending | 50 |
ColorGradeGlobalHue | 0 |
ColorGradeGlobalLum | 0 |
ColorGradeGlobalSat | 0 |
ColorGradeHighlightLum | 0 |
ColorGradeMidtoneHue | 0 |
ColorGradeMidtoneLum | 0 |
ColorGradeMidtoneSat | 0 |
ColorGradeShadowLum | 0 |
ColorNoiseReduction | 25 |
ColorNoiseReductionDetail | 50 |
ColorNoiseReductionSmoothness | 50 |
ColorSpace | Uncalibrated |
ColorTemperature | 5500 |
ColorTransform | YCbCr |
Contrast2012 | 0 |
ConvertToGrayscale | False |
CreateDate (1) | 2023:10:07 15:12:24+02:00 |
CreateDate | 2023:10:07 15:12:24 |
CreatorTool | Adobe Photoshop Lightroom Classic 12.5 (Macintosh) |
CropAngle | 0 |
CropBottom | 0.753774 |
CropConstrainToWarp | 0 |
CropLeft | 0.028571 |
CropRight | 0.739272 |
CropTop | 0 |
CustomRendered | Normal |
DateCreated (1) | 2023:10:07 |
DateCreated | 2023:10:07 15:12:24+02:00 |
DateTimeOriginal | 2023:10:07 15:12:24 |
DefringeGreenAmount | 0 |
DefringeGreenHueHi | 60 |
DefringeGreenHueLo | 40 |
DefringePurpleAmount | 0 |
DefringePurpleHueHi | 70 |
DefringePurpleHueLo | 30 |
Dehaze | 0 |
DistortionCorrectionAlreadyApplied | True |
Exposure2012 | +1.20 |
ExposureCompensation | -1.33 |
ExposureMode | Auto |
ExposureProgram | Shutter speed priority AE |
ExposureTime | 1/2000 |
Flash | No Flash |
FNumber | 8.0 |
FocalLength | 80.4 mm |
FocalLength35efl | 80.4 mm (35 mm equivalent: 121.0 mm) |
FocalLengthIn35mmFormat | 121 mm |
Format | image/jpeg |
FOV | 16.9 deg |
FujiRatingAlreadyApplied | True |
GrainAmount | 0 |
GreenHue | 0 |
GreenSaturation | 0 |
HasCrop | True |
HasSettings | True |
Highlights2012 | -58 |
HueAdjustmentAqua | 0 |
HueAdjustmentBlue | 0 |
HueAdjustmentGreen | 0 |
HueAdjustmentMagenta | 0 |
HueAdjustmentOrange | 0 |
HueAdjustmentPurple | 0 |
HueAdjustmentRed | 0 |
HueAdjustmentYellow | 0 |
HyperfocalDistance | 40.47 m |
ImageHeight | 3136 |
ImageSize | 4435x3136 |
ImageWidth | 4435 |
ISO | 320 |
LateralChromaticAberrationCorrectionAlreadyApplied | True |
Lens | XF50-140mmF2.8 R LM OIS WR |
LensInfo | 50-140mm f/2.8 |
LensMake | FUJIFILM |
LensManualDistortionAmount | 0 |
LensModel | XF50-140mmF2.8 R LM OIS WR |
LensProfileDistortionScale | 100 |
LensProfileEnable | 1 |
LensProfileIsEmbedded | True |
LensProfileName | Camera Settings |
LensProfileSetup | LensDefaults |
LensProfileVignettingScale | 100 |
LensSerialNumber | 76A13398 |
LightSource | Unknown |
LightValue | 15.3 |
LuminanceAdjustmentAqua | 0 |
LuminanceAdjustmentBlue | 0 |
LuminanceAdjustmentGreen | 0 |
LuminanceAdjustmentMagenta | 0 |
LuminanceAdjustmentOrange | 0 |
LuminanceAdjustmentPurple | 0 |
LuminanceAdjustmentRed | 0 |
LuminanceAdjustmentYellow | 0 |
LuminanceSmoothing | 0 |
Make | FUJIFILM |
MaxApertureValue | 2.8 |
Megapixels | 13.9 |
MeteringMode | Multi-segment |
Model | X-H2S |
ModifyDate (1) | 2023:10:08 13:23:41+02:00 |
ModifyDate | 2023:10:08 13:23:41 |
OverrideLookVignette | False |
ParametricDarks | 0 |
ParametricHighlights | 0 |
ParametricHighlightSplit | 75 |
ParametricLights | 0 |
ParametricMidtoneSplit | 50 |
ParametricShadows | 0 |
ParametricShadowSplit | 25 |
PerspectiveAspect | 0 |
PerspectiveHorizontal | 0 |
PerspectiveRotate | 0.0 |
PerspectiveScale | 100 |
PerspectiveUpright | 0 |
PerspectiveVertical | 0 |
PerspectiveX | 0.00 |
PerspectiveY | 0.00 |
PostCropVignetteAmount | 0 |
PreservedFileName | DSCF7672.RAF |
ProcessVersion | 15.4 |
ProfileDescription | Display P3 |
RawFileName | DSCF7672.RAF |
RedHue | 0 |
RedSaturation | 0 |
Saturation | 0 |
SaturationAdjustmentAqua | 0 |
SaturationAdjustmentBlue | 0 |
SaturationAdjustmentGreen | 0 |
SaturationAdjustmentMagenta | 0 |
SaturationAdjustmentOrange | 0 |
SaturationAdjustmentPurple | 0 |
SaturationAdjustmentRed | 0 |
SaturationAdjustmentYellow | 0 |
ScaleFactor35efl | 1.5 |
SceneCaptureType | Standard |
SceneType | Directly photographed |
SensingMethod | One-chip color area |
SensitivityType | Standard Output Sensitivity |
SerialNumber | 2C605458 |
Shadows2012 | +54 |
ShadowTint | 0 |
SharpenDetail | 25 |
SharpenEdgeMasking | 0 |
SharpenRadius | +1.0 |
Sharpness (1) | 40 |
Sharpness | Normal |
ShutterSpeed | 1/2000 |
ShutterSpeedValue | 1/2000 |
Software | Adobe Photoshop Lightroom Classic 12.5 (Macintosh) |
SplitToningBalance | 0 |
SplitToningHighlightHue | 0 |
SplitToningHighlightSaturation | 0 |
SplitToningShadowHue | 0 |
SplitToningShadowSaturation | 0 |
SubjectDistanceRange | Unknown |
Texture | +42 |
Tint | +10 |
ToneCurveName2012 | Linear |
ToneCurvePV2012 | 0, 0, 255, 255 |
ToneCurvePV2012Blue | 0, 0, 255, 255 |
ToneCurvePV2012Green | 0, 0, 255, 255 |
ToneCurvePV2012Red | 0, 0, 255, 255 |
Version | 15.5 |
Vibrance | 0 |
VignetteAmount | 0 |
VignetteCorrectionAlreadyApplied | True |
WhiteBalance (1) | Daylight |
WhiteBalance | Auto |
Whites2012 | 0 |