Felt | Verdi |
AlreadyApplied | True |
Aperture | 2.8 |
ApertureValue | 2.8 |
Artist | GEIR BRAATHEN |
AutoLateralCA | 1 |
BitsPerSample | 8 |
Blacks2012 | +28 |
BlueHue | 0 |
BlueSaturation | 0 |
BrightnessValue | 4.82 |
By-line | GEIR BRAATHEN |
CameraProfile | Camera PROVIA/Standard |
CameraProfilesApertureValue | 2.970854 |
CameraProfilesAuthor | Adobe |
CameraProfilesAutoScale | False |
CameraProfilesCameraPrettyName | Fujifilm GFX 100S |
CameraProfilesCameraRawProfile | True |
CameraProfilesFocalLength | 110 |
CameraProfilesFocusDistance | 10000 |
CameraProfilesLens | GF110mmF2 R LM WR |
CameraProfilesLensPrettyName | GF110mmF2 R LM WR |
CameraProfilesMake | FUJIFILM |
CameraProfilesModel | GFX100S |
CameraProfilesPerspectiveModelImageXCenter | 0.524725 |
CameraProfilesPerspectiveModelImageYCenter | 0.466804 |
CameraProfilesPerspectiveModelRadialDistortParam1 | 0.089228 |
CameraProfilesPerspectiveModelRadialDistortParam2 | -0.981219 |
CameraProfilesPerspectiveModelRadialDistortParam3 | 3.012121 |
CameraProfilesPerspectiveModelScaleFactor | 0.997503 |
CameraProfilesPerspectiveModelVersion | 2 |
CameraProfilesPerspectiveModelVignetteModelImageXCenter | 0.512363 |
CameraProfilesPerspectiveModelVignetteModelImageYCenter | 0.483402 |
CameraProfilesPerspectiveModelVignetteModelVignetteModelParam1 | 1 |
CameraProfilesPerspectiveModelVignetteModelVignetteModelPiecewiseParam | 0.000000, 1.000000, 0.093737, 0.991284, 0.132608, 0.980840, 0.162368, 0.949907, 0.187474, 0.908604, 0.209575, 0.861226, 0.229641, 0.810122, 0.247962, 0.759077, 0.265120, 0.704263, 0.281211, 0.704263 |
CameraProfilesProfileName | Camera Settings |
CameraProfilesSensorFormatFactor | 0.741803 |
CameraProfilesUniqueCameraModel | Fujifilm GFX 100S |
CircleOfConfusion | 0.038 mm |
Clarity2012 | 0 |
ColorComponents | 3 |
ColorGradeBlending | 50 |
ColorGradeGlobalHue | 0 |
ColorGradeGlobalLum | 0 |
ColorGradeGlobalSat | 0 |
ColorGradeHighlightLum | 0 |
ColorGradeMidtoneHue | 0 |
ColorGradeMidtoneLum | 0 |
ColorGradeMidtoneSat | 0 |
ColorGradeShadowLum | 0 |
ColorNoiseReduction | 25 |
ColorNoiseReductionDetail | 50 |
ColorNoiseReductionSmoothness | 50 |
ColorSpace | Uncalibrated |
ColorTemperature | 5500 |
ColorTransform | YCbCr |
Contrast2012 | 0 |
CreateDate | 2022:12:20 14:14:47 |
Creator | GEIR BRAATHEN |
CreatorTool | Adobe Photoshop Lightroom Classic 12.1 (Macintosh) |
CropAngle | 0 |
CropBottom | 0.934256 |
CropConstrainToWarp | 0 |
CropLeft | 0.133526 |
CropRight | 0.881571 |
CropTop | 0.110105 |
CustomRendered | Normal |
DateCreated (1) | 2022:12:20 |
DateCreated | 2022:12:20 14:14:47 |
DateTimeOriginal | 2022:12:20 14:14:47 |
DefringeGreenAmount | 0 |
DefringeGreenHueHi | 60 |
DefringeGreenHueLo | 40 |
DefringePurpleAmount | 0 |
DefringePurpleHueHi | 70 |
DefringePurpleHueLo | 30 |
Dehaze | 0 |
DistortionCorrectionAlreadyApplied | True |
Exposure2012 | +0.20 |
ExposureCompensation | -0.67 |
ExposureMode | Auto |
ExposureProgram | Aperture-priority AE |
ExposureTime | 1/160 |
Flash | No Flash |
FNumber | 2.8 |
FocalLength | 110.0 mm |
FocalLength35efl | 110.0 mm (35 mm equivalent: 87.0 mm) |
FocalLengthIn35mmFormat | 87 mm |
Format | image/jpeg |
FOV | 23.4 deg |
FujiRatingAlreadyApplied | True |
GrainAmount | 0 |
GreenHue | 0 |
GreenSaturation | 0 |
HasCrop | True |
HasSettings | True |
Highlights2012 | -74 |
HueAdjustmentAqua | 0 |
HueAdjustmentBlue | 0 |
HueAdjustmentGreen | 0 |
HueAdjustmentMagenta | 0 |
HueAdjustmentOrange | 0 |
HueAdjustmentPurple | 0 |
HueAdjustmentRed | 0 |
HueAdjustmentYellow | 0 |
HyperfocalDistance | 113.75 m |
ImageHeight | 2479 |
ImageSize | 3000x2479 |
ImageWidth | 3000 |
ISO | 160 |
LateralChromaticAberrationCorrectionAlreadyApplied | True |
Lens | GF110mmF2 R LM WR |
LensInfo | 110mm f/2 |
LensMake | FUJIFILM |
LensManualDistortionAmount | 0 |
LensModel | GF110mmF2 R LM WR |
LensProfileDistortionScale | 100 |
LensProfileEnable | 1 |
LensProfileIsEmbedded | True |
LensProfileName | Camera Settings |
LensProfileSetup | LensDefaults |
LensProfileVignettingScale | 100 |
LensSerialNumber | 16C00172 |
LightSource | Unknown |
LightValue | 9.6 |
LookAmount | 1 |
LookCameraModelRestriction | Fujifilm GFX 100S |
LookGroup | Profiles |
LookName | Camera NOSTALGIC Neg |
LookParametersCameraProfile | Camera PROVIA/Standard |
LookParametersConvertToGrayscale | False |
LookParametersProcessVersion | 11.0 |
LookParametersRGBTable | 025FBE7D4A51684B21A2A896E89F35D7 |
LookParametersVersion | 15.1 |
LookSupportsAmount | false |
LookSupportsMonochrome | false |
LookSupportsOutputReferred | false |
LuminanceAdjustmentAqua | 0 |
LuminanceAdjustmentBlue | 0 |
LuminanceAdjustmentGreen | 0 |
LuminanceAdjustmentMagenta | 0 |
LuminanceAdjustmentOrange | 0 |
LuminanceAdjustmentPurple | 0 |
LuminanceAdjustmentRed | 0 |
LuminanceAdjustmentYellow | 0 |
LuminanceSmoothing | 0 |
Make | FUJIFILM |
MaxApertureValue | 2.0 |
Megapixels | 7.4 |
MeteringMode | Multi-segment |
Model | GFX100S |
ModifyDate (1) | 2022:12:20 19:44:41+01:00 |
ModifyDate | 2022:12:20 19:44:41 |
OverrideLookVignette | False |
ParametricDarks | 0 |
ParametricHighlights | 0 |
ParametricHighlightSplit | 75 |
ParametricLights | 0 |
ParametricMidtoneSplit | 50 |
ParametricShadows | 0 |
ParametricShadowSplit | 25 |
PerspectiveAspect | 0 |
PerspectiveHorizontal | 0 |
PerspectiveRotate | 0.0 |
PerspectiveScale | 100 |
PerspectiveUpright | 0 |
PerspectiveVertical | 0 |
PerspectiveX | 0.00 |
PerspectiveY | 0.00 |
PostCropVignetteAmount | 0 |
PreservedFileName | GFXX6096.RAF |
ProcessVersion | 11.0 |
ProfileDescription | Display P3 |
RawFileName | GFXX6096.RAF |
RedHue | 0 |
RedSaturation | 0 |
Saturation | 0 |
SaturationAdjustmentAqua | 0 |
SaturationAdjustmentBlue | 0 |
SaturationAdjustmentGreen | 0 |
SaturationAdjustmentMagenta | 0 |
SaturationAdjustmentOrange | 0 |
SaturationAdjustmentPurple | 0 |
SaturationAdjustmentRed | 0 |
SaturationAdjustmentYellow | 0 |
ScaleFactor35efl | 0.8 |
SceneCaptureType | Standard |
SceneType | Directly photographed |
SensingMethod | One-chip color area |
SensitivityType | Standard Output Sensitivity |
SerialNumber | 13002285 |
Shadows2012 | 0 |
ShadowTint | 0 |
SharpenDetail | 25 |
SharpenEdgeMasking | 0 |
SharpenRadius | +1.0 |
Sharpness (1) | 40 |
Sharpness | Normal |
ShutterSpeed | 1/160 |
ShutterSpeedValue | 1/160 |
Software | Adobe Photoshop Lightroom Classic 12.1 (Macintosh) |
SplitToningBalance | 0 |
SplitToningHighlightHue | 0 |
SplitToningHighlightSaturation | 0 |
SplitToningShadowHue | 0 |
SplitToningShadowSaturation | 0 |
StandardOutputSensitivity | 160 |
SubjectDistanceRange | Unknown |
Texture | 0 |
Tint | +10 |
ToneCurveName2012 | Linear |
ToneCurvePV2012 | 0, 0, 255, 255 |
ToneCurvePV2012Blue | 0, 0, 255, 255 |
ToneCurvePV2012Green | 0, 0, 255, 255 |
ToneCurvePV2012Red | 0, 0, 255, 255 |
Version | 15.1 |
Vibrance | 0 |
VignetteAmount | 0 |
VignetteCorrectionAlreadyApplied | True |
WhiteBalance (1) | Daylight |
WhiteBalance | Auto |
Whites2012 | +28 |