Felt | Verdi |
AlreadyApplied | True |
Aperture | 2.8 |
ApertureValue | 2.8 |
ApproximateFocusDistance | 2 |
Artist | Bjorn Eirik B. Hansen |
AutoLateralCA | 1 |
BitsPerSample | 8 |
Blacks2012 | -5 |
BlueHue | 0 |
BlueSaturation | +49 |
By-line | Bjorn Eirik B. Hansen |
CameraProfile | Adobe Standard |
CFAPattern | [Red,Green][Green,Blue] |
CircleOfConfusion | 0.030 mm |
Clarity2012 | +70 |
ColorComponents | 3 |
ColorNoiseReduction | 25 |
ColorNoiseReductionDetail | 50 |
ColorNoiseReductionSmoothness | 50 |
ColorSpace | Uncalibrated |
ColorTemperature | 6100 |
ColorTransform | YCbCr |
Contrast | Normal |
Contrast2012 | +33 |
ConvertToGrayscale | False |
Copyright | Bjorn Eirik B. Hansen |
CopyrightNotice | Bjorn Eirik B. Hansen |
CreateDate (1) | 2018:06:24 12:24:26.27 |
CreateDate | 2018:06:24 12:24:26 |
Creator | Bjorn Eirik B. Hansen |
CreatorTool | Adobe Photoshop Camera Raw (Windows) |
CropAngle | 0 |
CropBottom | 0.704172 |
CropConstrainToWarp | 1 |
CropLeft | 0.308861 |
CropRight | 0.724895 |
CropTop | 0.310999 |
CustomRendered | Normal |
DateCreated (1) | 2018:06:24 |
DateCreated | 2018:06:24 12:24:26.27 |
DateTimeOriginal | 2018:06:24 12:24:26 |
DefringeGreenAmount | 0 |
DefringeGreenHueHi | 60 |
DefringeGreenHueLo | 40 |
DefringePurpleAmount | 0 |
DefringePurpleHueHi | 70 |
DefringePurpleHueLo | 30 |
Dehaze | 0 |
DigitalZoomRatio | 1 |
DistortionCorrectionAlreadyApplied | True |
DOF | 12.48 m (1.08 - 13.56 m) |
Exposure2012 | -0.15 |
ExposureCompensation | 0 |
ExposureMode | Manual |
ExposureProgram | Manual |
ExposureTime | 1/100 |
Flash | Off, Did not fire |
FNumber | 2.8 |
FocalLength | 14.0 mm |
FocalLength35efl | 14.0 mm (35 mm equivalent: 14.0 mm) |
FocalLengthIn35mmFormat | 14 mm |
Format | image/jpeg |
FOV | 104.3 deg |
GainControl | None |
GrainAmount | 0 |
GreenHue | 0 |
GreenSaturation | +4 |
HasCrop | True |
HasSettings | True |
Highlights2012 | -100 |
HueAdjustmentAqua | 0 |
HueAdjustmentBlue | 0 |
HueAdjustmentGreen | 0 |
HueAdjustmentMagenta | 0 |
HueAdjustmentOrange | 0 |
HueAdjustmentPurple | 0 |
HueAdjustmentRed | 0 |
HueAdjustmentYellow | 0 |
HyperfocalDistance | 2.33 m |
ImageHeight | 1931 |
ImageNumber | 48386 |
ImageSize | 3062x1931 |
ImageWidth | 3062 |
ISO | 100 |
LateralChromaticAberrationCorrectionAlreadyApplied | True |
Lens | 14.0-24.0 mm f/2.8 |
LensID (1) | 146 |
LensID | AF-S Zoom-Nikkor 14-24mm f/2.8G ED |
LensInfo | 14-24mm f/2.8 |
LensManualDistortionAmount | 0 |
LensModel | 14.0-24.0 mm f/2.8 |
LensProfileChromaticAberrationScale | 100 |
LensProfileDistortionScale | 100 |
LensProfileEnable | 1 |
LensProfileFilename | NIKON D3X (Nikon FX 14-24mm f2.8 G ED) - RAW.lcp |
LensProfileName | Adobe (Nikon AF-S NIKKOR 14-24mm f/2.8G ED) |
LensProfileSetup | LensDefaults |
LensProfileVignettingScale | 100 |
LightSource | Unknown |
LightValue | 9.6 |
LuminanceAdjustmentAqua | -70 |
LuminanceAdjustmentBlue | -97 |
LuminanceAdjustmentGreen | +23 |
LuminanceAdjustmentMagenta | 0 |
LuminanceAdjustmentOrange | 0 |
LuminanceAdjustmentPurple | 0 |
LuminanceAdjustmentRed | 0 |
LuminanceAdjustmentYellow | 0 |
LuminanceSmoothing | 0 |
Make | NIKON CORPORATION |
MaxApertureValue | 2.8 |
Megapixels | 5.9 |
MeteringMode | Multi-segment |
Model | NIKON D810 |
ModifyDate (1) | 2018:06:24 15:14:19+02:00 |
ModifyDate | 2018:06:24 15:14:19 |
PaintCorrectionActive | true |
PaintCorrectionAmount | 1.000000 |
PaintCorrectionBrightness | 0.000000 |
PaintCorrectionClarity | 0.000000 |
PaintCorrectionClarity2012 | 0.860000 |
PaintCorrectionContrast | 0.000000 |
PaintCorrectionContrast2012 (1) | 0.650000 |
PaintCorrectionContrast2012 (4) | 0.000000 |
PaintCorrectionContrast2012 | 0.180000 |
PaintCorrectionDefringe | 0.000000 |
PaintCorrectionExposure | 0.000000 |
PaintCorrectionExposure2012 (1) | 0.200000 |
PaintCorrectionExposure2012 (2) | -0.325000 |
PaintCorrectionExposure2012 (3) | 0.175000 |
PaintCorrectionExposure2012 (4) | -0.100000 |
PaintCorrectionExposure2012 | -0.475000 |
PaintCorrectionHighlights2012 (1) | 0.150000 |
PaintCorrectionHighlights2012 (3) | 0.240000 |
PaintCorrectionHighlights2012 (4) | 0.000000 |
PaintCorrectionHighlights2012 | -0.190000 |
PaintCorrectionHue | 0.000000 |
PaintCorrectionLocalBlacks2012 | 0.000000 |
PaintCorrectionLocalDehaze | 0.000000 |
PaintCorrectionLocalWhites2012 (4) | -0.500000 |
PaintCorrectionLocalWhites2012 | -0.010000 |
PaintCorrectionLuminanceNoise | 0.170000 |
PaintCorrectionMaskCenterWeight | 0.000000 |
PaintCorrectionMaskFlow | 0.888889 |
PaintCorrectionMaskRadius (1) | 0.028209 |
PaintCorrectionMaskRadius (2) | 0.008373 |
PaintCorrectionMaskRadius (3) | 0.027854 |
PaintCorrectionMaskRadius (4) | 0.027856 |
PaintCorrectionMaskRadius (5) | 0.063459 |
PaintCorrectionMaskRadius (6) | 0.064131 |
PaintCorrectionMaskRadius (7) | 0.064243 |
PaintCorrectionMaskRadius | 0.063624 |
PaintCorrectionMaskValue | 1.000000 |
PaintCorrectionMaskWhat | Mask/Paint |
PaintCorrectionMoire | 0.000000 |
PaintCorrectionSaturation (7) | 0.070000 |
PaintCorrectionSaturation | 0.000000 |
PaintCorrectionShadows2012 (1) | -0.380000 |
PaintCorrectionShadows2012 | 0.000000 |
PaintCorrectionSharpness | 0.780000 |
PaintCorrectionTemperature (1) | 0.100000 |
PaintCorrectionTemperature | 0.000000 |
PaintCorrectionTint (1) | -0.320000 |
PaintCorrectionTint | 0.000000 |
PaintCorrectionWhat | Correction |
ParametricDarks | 0 |
ParametricHighlights | +40 |
ParametricHighlightSplit | 75 |
ParametricLights | -55 |
ParametricMidtoneSplit | 50 |
ParametricShadows | -63 |
ParametricShadowSplit | 25 |
PerspectiveAspect | 0 |
PerspectiveHorizontal | 0 |
PerspectiveRotate | 0.0 |
PerspectiveScale | 100 |
PerspectiveUpright | 0 |
PerspectiveVertical | 0 |
PerspectiveX | 0.00 |
PerspectiveY | 0.00 |
PostCropVignetteAmount | -50 |
PostCropVignetteFeather | 89 |
PostCropVignetteHighlightContrast | 0 |
PostCropVignetteMidpoint | 38 |
PostCropVignetteRoundness | 0 |
PostCropVignetteStyle | 1 |
ProcessVersion | 10.0 |
ProfileDescription | Adobe RGB (1998) |
RawFileName | _BEH6784.NEF |
RedHue | 0 |
RedSaturation | +61 |
Rights | Bjorn Eirik B. Hansen |
Saturation (1) | +26 |
Saturation | Normal |
SaturationAdjustmentAqua | 0 |
SaturationAdjustmentBlue | -100 |
SaturationAdjustmentGreen | +3 |
SaturationAdjustmentMagenta | 0 |
SaturationAdjustmentOrange | 0 |
SaturationAdjustmentPurple | 0 |
SaturationAdjustmentRed | 0 |
SaturationAdjustmentYellow | +53 |
ScaleFactor35efl | 1.0 |
SceneCaptureType | Standard |
SceneType | Directly photographed |
SensingMethod | One-chip color area |
SensitivityType | Recommended Exposure Index |
SerialNumber | 6012069 |
Shadows2012 | +34 |
ShadowTint | 0 |
SharpenDetail | 25 |
SharpenEdgeMasking | 0 |
SharpenRadius | +1.0 |
Sharpness (1) | 25 |
Sharpness | Normal |
ShutterSpeed | 1/100 |
ShutterSpeedValue | 1/100 |
Software | Adobe Photoshop Camera Raw (Windows) |
SplitToningBalance | 0 |
SplitToningHighlightHue | 0 |
SplitToningHighlightSaturation | 0 |
SplitToningShadowHue | 0 |
SplitToningShadowSaturation | 0 |
SubjectDistanceRange | Unknown |
Tint | +8 |
ToneCurve | 0, 0, 32, 22, 64, 56, 128, 128, 192, 196, 255, 255 |
ToneCurveBlue | 0, 0, 255, 255 |
ToneCurveGreen | 0, 0, 255, 255 |
ToneCurveName | Medium Contrast |
ToneCurveName2012 | Linear |
ToneCurvePV2012 | 0, 0, 255, 255 |
ToneCurvePV2012Blue | 0, 0, 255, 255 |
ToneCurvePV2012Green | 0, 0, 255, 255 |
ToneCurvePV2012Red | 0, 0, 255, 255 |
ToneCurveRed | 0, 0, 255, 255 |
Version | 10.0 |
Vibrance | -100 |
VignetteAmount | 0 |
VignetteCorrectionAlreadyApplied | True |
WhiteBalance (1) | Custom |
WhiteBalance | Auto |
Whites2012 | -23 |